BEGIN:VCALENDAR
VERSION:2.0
PRODID:-//Joe's Italian Restaurant and Bar - ECPv6.15.20//NONSGML v1.0//EN
CALSCALE:GREGORIAN
METHOD:PUBLISH
X-ORIGINAL-URL:https://www.joesitalianrestaurantandbar.com
X-WR-CALDESC:Events for Joe's Italian Restaurant and Bar
REFRESH-INTERVAL;VALUE=DURATION:PT1H
X-Robots-Tag:noindex
X-PUBLISHED-TTL:PT1H
BEGIN:VTIMEZONE
TZID:America/Los_Angeles
BEGIN:DAYLIGHT
TZOFFSETFROM:-0800
TZOFFSETTO:-0700
TZNAME:PDT
DTSTART:20230312T100000
END:DAYLIGHT
BEGIN:STANDARD
TZOFFSETFROM:-0700
TZOFFSETTO:-0800
TZNAME:PST
DTSTART:20231105T090000
END:STANDARD
BEGIN:DAYLIGHT
TZOFFSETFROM:-0800
TZOFFSETTO:-0700
TZNAME:PDT
DTSTART:20240310T100000
END:DAYLIGHT
BEGIN:STANDARD
TZOFFSETFROM:-0700
TZOFFSETTO:-0800
TZNAME:PST
DTSTART:20241103T090000
END:STANDARD
BEGIN:DAYLIGHT
TZOFFSETFROM:-0800
TZOFFSETTO:-0700
TZNAME:PDT
DTSTART:20250309T100000
END:DAYLIGHT
BEGIN:STANDARD
TZOFFSETFROM:-0700
TZOFFSETTO:-0800
TZNAME:PST
DTSTART:20251102T090000
END:STANDARD
END:VTIMEZONE
BEGIN:VEVENT
DTSTART;TZID=America/Los_Angeles:20240912T180000
DTEND;TZID=America/Los_Angeles:20240912T210000
DTSTAMP:20260423T033853
CREATED:20240914T194453Z
LAST-MODIFIED:20240914T194453Z
UID:10000353-1726164000-1726174800@www.joesitalianrestaurantandbar.com
SUMMARY:Troy Scott
DESCRIPTION:Thursday Night 9/12 from 6:00 PM to 9:00 PM on the Patio!!
URL:https://www.joesitalianrestaurantandbar.com/event/troy-scott/
LOCATION:Joe’s Italian Restaurant and Bar\, 25672 Crown Valley Pkwy\, Ste. G1\, Ladera Ranch\, CA\, 92694\, United States
CATEGORIES:Music Events
ATTACH;FMTTYPE=image/jpeg:https://www.joesitalianrestaurantandbar.com/wp-content/uploads/2024/09/459054979_18457989778032790_2340900338515819137_n.jpg
END:VEVENT
BEGIN:VEVENT
DTSTART;TZID=America/Los_Angeles:20240926T173000
DTEND;TZID=America/Los_Angeles:20240926T203000
DTSTAMP:20260423T033853
CREATED:20240926T155133Z
LAST-MODIFIED:20240926T155133Z
UID:10000354-1727371800-1727382600@www.joesitalianrestaurantandbar.com
SUMMARY:The Dan John Project
DESCRIPTION:We’re going to have an awesome performance this Thursday Night 9/26/24 Dan Forster and Jon!! From 5:30 to 8:30 on the Patio!!
URL:https://www.joesitalianrestaurantandbar.com/event/the-dan-john-project-4/
LOCATION:Joe’s Italian Restaurant and Bar\, 25672 Crown Valley Pkwy\, Ste. G1\, Ladera Ranch\, CA\, 92694\, United States
CATEGORIES:Music Events
ATTACH;FMTTYPE=image/jpeg:https://www.joesitalianrestaurantandbar.com/wp-content/uploads/2024/09/460720510_18460763392032790_8014757674527928937_n.jpg
END:VEVENT
END:VCALENDAR