BEGIN:VCALENDAR
VERSION:2.0
PRODID:-//Joe's Italian Restaurant and Bar - ECPv6.15.20//NONSGML v1.0//EN
CALSCALE:GREGORIAN
METHOD:PUBLISH
X-WR-CALNAME:Joe's Italian Restaurant and Bar
X-ORIGINAL-URL:https://www.joesitalianrestaurantandbar.com
X-WR-CALDESC:Events for Joe's Italian Restaurant and Bar
REFRESH-INTERVAL;VALUE=DURATION:PT1H
X-Robots-Tag:noindex
X-PUBLISHED-TTL:PT1H
BEGIN:VTIMEZONE
TZID:America/Los_Angeles
BEGIN:DAYLIGHT
TZOFFSETFROM:-0800
TZOFFSETTO:-0700
TZNAME:PDT
DTSTART:20230312T100000
END:DAYLIGHT
BEGIN:STANDARD
TZOFFSETFROM:-0700
TZOFFSETTO:-0800
TZNAME:PST
DTSTART:20231105T090000
END:STANDARD
BEGIN:DAYLIGHT
TZOFFSETFROM:-0800
TZOFFSETTO:-0700
TZNAME:PDT
DTSTART:20240310T100000
END:DAYLIGHT
BEGIN:STANDARD
TZOFFSETFROM:-0700
TZOFFSETTO:-0800
TZNAME:PST
DTSTART:20241103T090000
END:STANDARD
BEGIN:DAYLIGHT
TZOFFSETFROM:-0800
TZOFFSETTO:-0700
TZNAME:PDT
DTSTART:20250309T100000
END:DAYLIGHT
BEGIN:STANDARD
TZOFFSETFROM:-0700
TZOFFSETTO:-0800
TZNAME:PST
DTSTART:20251102T090000
END:STANDARD
END:VTIMEZONE
BEGIN:VEVENT
DTSTART;TZID=America/Los_Angeles:20240808T180000
DTEND;TZID=America/Los_Angeles:20240808T210000
DTSTAMP:20260420T222625
CREATED:20240802T015333Z
LAST-MODIFIED:20240802T015333Z
UID:10000351-1723140000-1723150800@www.joesitalianrestaurantandbar.com
SUMMARY:Anesha Rose
DESCRIPTION:
URL:https://www.joesitalianrestaurantandbar.com/event/anesha-rose-5/
LOCATION:Joe’s Italian Restaurant and Bar\, 25672 Crown Valley Pkwy\, Ste. G1\, Ladera Ranch\, CA\, 92694\, United States
CATEGORIES:Music Events
ATTACH;FMTTYPE=image/jpeg:https://www.joesitalianrestaurantandbar.com/wp-content/uploads/2024/08/Anesha-Rose-8-8-24.jpg
END:VEVENT
BEGIN:VEVENT
DTSTART;TZID=America/Los_Angeles:20240815T180000
DTEND;TZID=America/Los_Angeles:20240815T210000
DTSTAMP:20260420T222625
CREATED:20240816T203222Z
LAST-MODIFIED:20240816T203222Z
UID:10000352-1723744800-1723755600@www.joesitalianrestaurantandbar.com
SUMMARY:Anesha Rose
DESCRIPTION:From 6-9 PM we have Anesha Rose. performing on the Patio!
URL:https://www.joesitalianrestaurantandbar.com/event/anesha-rose-6/
LOCATION:Joe’s Italian Restaurant and Bar\, 25672 Crown Valley Pkwy\, Ste. G1\, Ladera Ranch\, CA\, 92694\, United States
CATEGORIES:Music Events
ATTACH;FMTTYPE=image/jpeg:https://www.joesitalianrestaurantandbar.com/wp-content/uploads/2024/08/Anesha-Rose-8-15-24.jpg
END:VEVENT
END:VCALENDAR