BEGIN:VCALENDAR
VERSION:2.0
PRODID:-//Joe's Italian Restaurant and Bar - ECPv6.15.17//NONSGML v1.0//EN
CALSCALE:GREGORIAN
METHOD:PUBLISH
X-ORIGINAL-URL:https://www.joesitalianrestaurantandbar.com
X-WR-CALDESC:Events for Joe's Italian Restaurant and Bar
REFRESH-INTERVAL;VALUE=DURATION:PT1H
X-Robots-Tag:noindex
X-PUBLISHED-TTL:PT1H
BEGIN:VTIMEZONE
TZID:America/Los_Angeles
BEGIN:DAYLIGHT
TZOFFSETFROM:-0800
TZOFFSETTO:-0700
TZNAME:PDT
DTSTART:20220313T100000
END:DAYLIGHT
BEGIN:STANDARD
TZOFFSETFROM:-0700
TZOFFSETTO:-0800
TZNAME:PST
DTSTART:20221106T090000
END:STANDARD
BEGIN:DAYLIGHT
TZOFFSETFROM:-0800
TZOFFSETTO:-0700
TZNAME:PDT
DTSTART:20230312T100000
END:DAYLIGHT
BEGIN:STANDARD
TZOFFSETFROM:-0700
TZOFFSETTO:-0800
TZNAME:PST
DTSTART:20231105T090000
END:STANDARD
BEGIN:DAYLIGHT
TZOFFSETFROM:-0800
TZOFFSETTO:-0700
TZNAME:PDT
DTSTART:20240310T100000
END:DAYLIGHT
BEGIN:STANDARD
TZOFFSETFROM:-0700
TZOFFSETTO:-0800
TZNAME:PST
DTSTART:20241103T090000
END:STANDARD
END:VTIMEZONE
BEGIN:VEVENT
DTSTART;TZID=America/Los_Angeles:20230803T180000
DTEND;TZID=America/Los_Angeles:20230803T210000
DTSTAMP:20260419T174704
CREATED:20230803T233318Z
LAST-MODIFIED:20230803T233318Z
UID:10000335-1691085600-1691096400@www.joesitalianrestaurantandbar.com
SUMMARY:The Dan John Project
DESCRIPTION:Thursday Night\, August 3rd from 6 to 9 PM on the patio!!\n— at Joe’s Italian Restaurant & Bar.
URL:https://www.joesitalianrestaurantandbar.com/event/the-dan-john-project-2/
LOCATION:Joe’s Italian Restaurant and Bar\, 25672 Crown Valley Pkwy\, Ste. G1\, Ladera Ranch\, CA\, 92694\, United States
CATEGORIES:Music Events
ATTACH;FMTTYPE=image/jpeg:https://www.joesitalianrestaurantandbar.com/wp-content/uploads/2023/08/The-Dan-John-Project.jpg
END:VEVENT
BEGIN:VEVENT
DTSTART;TZID=America/Los_Angeles:20230810T180000
DTEND;TZID=America/Los_Angeles:20230810T210000
DTSTAMP:20260419T174704
CREATED:20230808T180347Z
LAST-MODIFIED:20230808T180347Z
UID:10000336-1691690400-1691701200@www.joesitalianrestaurantandbar.com
SUMMARY:Anesha Rose
DESCRIPTION:Anesha Rose  Thursday Night 8/10/23 on the Patio from 6 to 9 PM-it’s always fun when ANESHA’S in the house
URL:https://www.joesitalianrestaurantandbar.com/event/anesha-rose-4/
LOCATION:Joe’s Italian Restaurant and Bar\, 25672 Crown Valley Pkwy\, Ste. G1\, Ladera Ranch\, CA\, 92694\, United States
CATEGORIES:Music Events
ATTACH;FMTTYPE=image/jpeg:https://www.joesitalianrestaurantandbar.com/wp-content/uploads/2023/08/Anesha-Rose-8-8-2023.jpg
END:VEVENT
BEGIN:VEVENT
DTSTART;TZID=America/Los_Angeles:20230817T180000
DTEND;TZID=America/Los_Angeles:20230817T210000
DTSTAMP:20260419T174704
CREATED:20230815T213313Z
LAST-MODIFIED:20230815T213343Z
UID:10000337-1692295200-1692306000@www.joesitalianrestaurantandbar.com
SUMMARY:Troy Ritchie
DESCRIPTION:Thursday Night on the patio 8/17/23\, from 6 to 9 PM
URL:https://www.joesitalianrestaurantandbar.com/event/troyritchie/
LOCATION:Joe’s Italian Restaurant and Bar\, 25672 Crown Valley Pkwy\, Ste. G1\, Ladera Ranch\, CA\, 92694\, United States
CATEGORIES:Music Events
ATTACH;FMTTYPE=image/jpeg:https://www.joesitalianrestaurantandbar.com/wp-content/uploads/2023/08/IMG_1909.jpeg
END:VEVENT
BEGIN:VEVENT
DTSTART;TZID=America/Los_Angeles:20230824T180000
DTEND;TZID=America/Los_Angeles:20230824T210000
DTSTAMP:20260419T174704
CREATED:20230821T224138Z
LAST-MODIFIED:20230821T224138Z
UID:10000338-1692900000-1692910800@www.joesitalianrestaurantandbar.com
SUMMARY:Phil Vandermost
DESCRIPTION:Thursday Night on the Patio from 6 to 9 PM
URL:https://www.joesitalianrestaurantandbar.com/event/phil-vandermost-2/
LOCATION:Joe’s Italian Restaurant and Bar\, 25672 Crown Valley Pkwy\, Ste. G1\, Ladera Ranch\, CA\, 92694\, United States
CATEGORIES:Music Events
ATTACH;FMTTYPE=image/jpeg:https://www.joesitalianrestaurantandbar.com/wp-content/uploads/2023/08/Phil-Vandermost-8-24-2023.jpg
END:VEVENT
BEGIN:VEVENT
DTSTART;TZID=America/Los_Angeles:20230831T180000
DTEND;TZID=America/Los_Angeles:20230831T210000
DTSTAMP:20260419T174704
CREATED:20230829T181841Z
LAST-MODIFIED:20230829T181841Z
UID:10000339-1693504800-1693515600@www.joesitalianrestaurantandbar.com
SUMMARY:Scott Robertson
DESCRIPTION:Thursday Night on the Patio 8/31/23\, from 6 to 9 PM. Come early it’s a awesome performance.
URL:https://www.joesitalianrestaurantandbar.com/event/scott-robertson-4/
LOCATION:Joe’s Italian Restaurant and Bar\, 25672 Crown Valley Pkwy\, Ste. G1\, Ladera Ranch\, CA\, 92694\, United States
CATEGORIES:Music Events
ATTACH;FMTTYPE=image/jpeg:https://www.joesitalianrestaurantandbar.com/wp-content/uploads/2023/08/Scott-Robertson-8-31-23.jpg
END:VEVENT
END:VCALENDAR