BEGIN:VCALENDAR
VERSION:2.0
PRODID:-//Joe's Italian Restaurant and Bar - ECPv6.15.17//NONSGML v1.0//EN
CALSCALE:GREGORIAN
METHOD:PUBLISH
X-WR-CALNAME:Joe's Italian Restaurant and Bar
X-ORIGINAL-URL:https://www.joesitalianrestaurantandbar.com
X-WR-CALDESC:Events for Joe's Italian Restaurant and Bar
REFRESH-INTERVAL;VALUE=DURATION:PT1H
X-Robots-Tag:noindex
X-PUBLISHED-TTL:PT1H
BEGIN:VTIMEZONE
TZID:America/Los_Angeles
BEGIN:DAYLIGHT
TZOFFSETFROM:-0800
TZOFFSETTO:-0700
TZNAME:PDT
DTSTART:20220313T100000
END:DAYLIGHT
BEGIN:STANDARD
TZOFFSETFROM:-0700
TZOFFSETTO:-0800
TZNAME:PST
DTSTART:20221106T090000
END:STANDARD
BEGIN:DAYLIGHT
TZOFFSETFROM:-0800
TZOFFSETTO:-0700
TZNAME:PDT
DTSTART:20230312T100000
END:DAYLIGHT
BEGIN:STANDARD
TZOFFSETFROM:-0700
TZOFFSETTO:-0800
TZNAME:PST
DTSTART:20231105T090000
END:STANDARD
BEGIN:DAYLIGHT
TZOFFSETFROM:-0800
TZOFFSETTO:-0700
TZNAME:PDT
DTSTART:20240310T100000
END:DAYLIGHT
BEGIN:STANDARD
TZOFFSETFROM:-0700
TZOFFSETTO:-0800
TZNAME:PST
DTSTART:20241103T090000
END:STANDARD
END:VTIMEZONE
BEGIN:VEVENT
DTSTART;TZID=America/Los_Angeles:20230604T160000
DTEND;TZID=America/Los_Angeles:20230604T200000
DTSTAMP:20260419T110312
CREATED:20230602T135644Z
LAST-MODIFIED:20230602T135644Z
UID:10000064-1685894400-1685908800@www.joesitalianrestaurantandbar.com
SUMMARY:Makenna Olson
DESCRIPTION:
URL:https://www.joesitalianrestaurantandbar.com/event/makenna-olson/
LOCATION:Joe’s Italian Restaurant and Bar\, 25672 Crown Valley Pkwy\, Ste. G1\, Ladera Ranch\, CA\, 92694\, United States
CATEGORIES:Music Events
ATTACH;FMTTYPE=image/jpeg:https://www.joesitalianrestaurantandbar.com/wp-content/uploads/2023/06/IMG_1031.jpeg
END:VEVENT
BEGIN:VEVENT
DTSTART;TZID=America/Los_Angeles:20230608T180000
DTEND;TZID=America/Los_Angeles:20230608T210000
DTSTAMP:20260419T110312
CREATED:20230605T162411Z
LAST-MODIFIED:20230605T162411Z
UID:10000065-1686247200-1686258000@www.joesitalianrestaurantandbar.com
SUMMARY:Troy Ritchie
DESCRIPTION:Thursday Night 6/8/23 from 6 to 9 PM ON THE PATIO!!
URL:https://www.joesitalianrestaurantandbar.com/event/troy-ritchie-4/
LOCATION:Joe’s Italian Restaurant and Bar\, 25672 Crown Valley Pkwy\, Ste. G1\, Ladera Ranch\, CA\, 92694\, United States
CATEGORIES:Music Events
ATTACH;FMTTYPE=image/jpeg:https://www.joesitalianrestaurantandbar.com/wp-content/uploads/2023/06/Troy-Ritchie-6-8-23.jpg
END:VEVENT
BEGIN:VEVENT
DTSTART;TZID=America/Los_Angeles:20230622T180000
DTEND;TZID=America/Los_Angeles:20230622T210000
DTSTAMP:20260419T110312
CREATED:20230612T163443Z
LAST-MODIFIED:20230612T163443Z
UID:10000066-1687456800-1687467600@www.joesitalianrestaurantandbar.com
SUMMARY:Greg Craycraft Solo
DESCRIPTION:Greg Craycraft Solo on the Patio 6/22/23 from 6 to 9 PM
URL:https://www.joesitalianrestaurantandbar.com/event/greg-craycraft-solo/
LOCATION:Joe’s Italian Restaurant and Bar\, 25672 Crown Valley Pkwy\, Ste. G1\, Ladera Ranch\, CA\, 92694\, United States
CATEGORIES:Music Events
ATTACH;FMTTYPE=image/jpeg:https://www.joesitalianrestaurantandbar.com/wp-content/uploads/2023/06/Greg-Craycraft-6-22-23.jpg
END:VEVENT
BEGIN:VEVENT
DTSTART;TZID=America/Los_Angeles:20230625T160000
DTEND;TZID=America/Los_Angeles:20230625T200000
DTSTAMP:20260419T110312
CREATED:20230622T001118Z
LAST-MODIFIED:20230622T001118Z
UID:10000328-1687708800-1687723200@www.joesitalianrestaurantandbar.com
SUMMARY:Troy Ritchie
DESCRIPTION:Troy Ritchie\, Sunday night\, 6/25/23 from 4 to 8 PM on the patio
URL:https://www.joesitalianrestaurantandbar.com/event/troy-ritchie-5/
LOCATION:Joe’s Italian Restaurant and Bar\, 25672 Crown Valley Pkwy\, Ste. G1\, Ladera Ranch\, CA\, 92694\, United States
CATEGORIES:Music Events
ATTACH;FMTTYPE=image/jpeg:https://www.joesitalianrestaurantandbar.com/wp-content/uploads/2023/06/Troy-Ritchie-6-25-2023.jpg
END:VEVENT
BEGIN:VEVENT
DTSTART;TZID=America/Los_Angeles:20230629T180000
DTEND;TZID=America/Los_Angeles:20230629T210000
DTSTAMP:20260419T110312
CREATED:20230629T181531Z
LAST-MODIFIED:20230629T181531Z
UID:10000329-1688061600-1688072400@www.joesitalianrestaurantandbar.com
SUMMARY:Acoustic Covers
DESCRIPTION:Thursday Night on the Patio from 6 to 9 PM. Remember it’s happy hour from (4:00) open to 6 PM get there early.
URL:https://www.joesitalianrestaurantandbar.com/event/acoustic-covers/
LOCATION:Joe’s Italian Restaurant and Bar\, 25672 Crown Valley Pkwy\, Ste. G1\, Ladera Ranch\, CA\, 92694\, United States
CATEGORIES:Music Events
ATTACH;FMTTYPE=image/jpeg:https://www.joesitalianrestaurantandbar.com/wp-content/uploads/2023/06/Acoustic-Covers.jpg
END:VEVENT
END:VCALENDAR