BEGIN:VCALENDAR
VERSION:2.0
PRODID:-//Joe's Italian Restaurant and Bar - ECPv6.15.17//NONSGML v1.0//EN
CALSCALE:GREGORIAN
METHOD:PUBLISH
X-WR-CALNAME:Joe's Italian Restaurant and Bar
X-ORIGINAL-URL:https://www.joesitalianrestaurantandbar.com
X-WR-CALDESC:Events for Joe's Italian Restaurant and Bar
REFRESH-INTERVAL;VALUE=DURATION:PT1H
X-Robots-Tag:noindex
X-PUBLISHED-TTL:PT1H
BEGIN:VTIMEZONE
TZID:America/Los_Angeles
BEGIN:DAYLIGHT
TZOFFSETFROM:-0800
TZOFFSETTO:-0700
TZNAME:PDT
DTSTART:20220313T100000
END:DAYLIGHT
BEGIN:STANDARD
TZOFFSETFROM:-0700
TZOFFSETTO:-0800
TZNAME:PST
DTSTART:20221106T090000
END:STANDARD
BEGIN:DAYLIGHT
TZOFFSETFROM:-0800
TZOFFSETTO:-0700
TZNAME:PDT
DTSTART:20230312T100000
END:DAYLIGHT
BEGIN:STANDARD
TZOFFSETFROM:-0700
TZOFFSETTO:-0800
TZNAME:PST
DTSTART:20231105T090000
END:STANDARD
BEGIN:DAYLIGHT
TZOFFSETFROM:-0800
TZOFFSETTO:-0700
TZNAME:PDT
DTSTART:20240310T100000
END:DAYLIGHT
BEGIN:STANDARD
TZOFFSETFROM:-0700
TZOFFSETTO:-0800
TZNAME:PST
DTSTART:20241103T090000
END:STANDARD
END:VTIMEZONE
BEGIN:VEVENT
DTSTART;TZID=America/Los_Angeles:20230720T180000
DTEND;TZID=America/Los_Angeles:20230720T210000
DTSTAMP:20260419T174305
CREATED:20230720T175057Z
LAST-MODIFIED:20230720T175057Z
UID:10000333-1689876000-1689886800@www.joesitalianrestaurantandbar.com
SUMMARY:Scott Robertson
DESCRIPTION:Yes\, by popular demand Elvis will be back on the patio this coming Thursday Night from 6 to 9 PM\n— at Joe’s Italian Restaurant & Bar.
URL:https://www.joesitalianrestaurantandbar.com/event/scott-robertson-3/
LOCATION:Joe’s Italian Restaurant and Bar\, 25672 Crown Valley Pkwy\, Ste. G1\, Ladera Ranch\, CA\, 92694\, United States
CATEGORIES:Music Events
ATTACH;FMTTYPE=image/jpeg:https://www.joesitalianrestaurantandbar.com/wp-content/uploads/2023/07/Scott-Robertson-July-20-2023.jpg
END:VEVENT
END:VCALENDAR