BEGIN:VCALENDAR
VERSION:2.0
PRODID:-//Joe's Italian Restaurant and Bar - ECPv6.15.20//NONSGML v1.0//EN
CALSCALE:GREGORIAN
METHOD:PUBLISH
X-ORIGINAL-URL:https://www.joesitalianrestaurantandbar.com
X-WR-CALDESC:Events for Joe's Italian Restaurant and Bar
REFRESH-INTERVAL;VALUE=DURATION:PT1H
X-Robots-Tag:noindex
X-PUBLISHED-TTL:PT1H
BEGIN:VTIMEZONE
TZID:UTC
BEGIN:STANDARD
TZOFFSETFROM:+0000
TZOFFSETTO:+0000
TZNAME:UTC
DTSTART:20210101T000000
END:STANDARD
END:VTIMEZONE
BEGIN:VEVENT
DTSTART;TZID=UTC:20220503T150000
DTEND;TZID=UTC:20220503T180000
DTSTAMP:20260420T140144
CREATED:20220424T223924Z
LAST-MODIFIED:20220424T223924Z
UID:10000023-1651590000-1651600800@www.joesitalianrestaurantandbar.com
SUMMARY:South OC Super Club
DESCRIPTION:We will be excepting food at Joe’s Italian Restaurant & Bar in LDR On May 3rd. When dropping off the food enjoy dinner and receive a 10% discount off your bill.￼ We open at 3 PM until 9 PM. See you on the third. \nThank You\,\nJoseph Moscatiello
URL:https://www.joesitalianrestaurantandbar.com/event/south-oc-super-club/
LOCATION:Joe’s Italian Restaurant and Bar\, 25672 Crown Valley Pkwy\, Ste. G1\, Ladera Ranch\, CA\, 92694\, United States
CATEGORIES:General
ATTACH;FMTTYPE=image/jpeg:https://www.joesitalianrestaurantandbar.com/wp-content/uploads/2022/04/89934B65-66E0-4468-8194-9A87A5342355.jpeg
END:VEVENT
END:VCALENDAR